BEGIN:VCALENDAR
VERSION:2.0
PRODID:-//Franciscusparochie Meierijstad - ECPv6.15.20//NONSGML v1.0//EN
CALSCALE:GREGORIAN
METHOD:PUBLISH
X-ORIGINAL-URL:https://franciscusparochiemeierijstad.nl
X-WR-CALDESC:Evenementen voor Franciscusparochie Meierijstad
REFRESH-INTERVAL;VALUE=DURATION:PT1H
X-Robots-Tag:noindex
X-PUBLISHED-TTL:PT1H
BEGIN:VTIMEZONE
TZID:Europe/Amsterdam
BEGIN:DAYLIGHT
TZOFFSETFROM:+0100
TZOFFSETTO:+0200
TZNAME:CEST
DTSTART:20250330T010000
END:DAYLIGHT
BEGIN:STANDARD
TZOFFSETFROM:+0200
TZOFFSETTO:+0100
TZNAME:CET
DTSTART:20251026T010000
END:STANDARD
BEGIN:DAYLIGHT
TZOFFSETFROM:+0100
TZOFFSETTO:+0200
TZNAME:CEST
DTSTART:20260329T010000
END:DAYLIGHT
BEGIN:STANDARD
TZOFFSETFROM:+0200
TZOFFSETTO:+0100
TZNAME:CET
DTSTART:20261025T010000
END:STANDARD
BEGIN:DAYLIGHT
TZOFFSETFROM:+0100
TZOFFSETTO:+0200
TZNAME:CEST
DTSTART:20270328T010000
END:DAYLIGHT
BEGIN:STANDARD
TZOFFSETFROM:+0200
TZOFFSETTO:+0100
TZNAME:CET
DTSTART:20271031T010000
END:STANDARD
END:VTIMEZONE
BEGIN:VEVENT
DTSTART;TZID=Europe/Amsterdam:20260705T100000
DTEND;TZID=Europe/Amsterdam:20260705T100000
DTSTAMP:20260420T103456
CREATED:20260213T174527Z
LAST-MODIFIED:20260213T174527Z
UID:9448-1783245600-1783245600@franciscusparochiemeierijstad.nl
SUMMARY:Woord en Communieviering - 14e zondag door het jaar @ Lambertuskerk Veghel
DESCRIPTION:Voorganger: Diaken Bas
URL:https://franciscusparochiemeierijstad.nl/agenda-item/woord-en-communieviering-14e-zondag-door-het-jaar-lambertuskerk-veghel/
LOCATION:H. Lambertus Veghel
CATEGORIES:H. Lambertus Veghel
END:VEVENT
BEGIN:VEVENT
DTSTART;TZID=Europe/Amsterdam:20260705T100000
DTEND;TZID=Europe/Amsterdam:20260705T100000
DTSTAMP:20260420T103456
CREATED:20260213T174527Z
LAST-MODIFIED:20260213T174527Z
UID:9449-1783245600-1783245600@franciscusparochiemeierijstad.nl
SUMMARY:Woord en Communieviering - 14e zondag door het jaar @ H.Hart/H.Joh.
DESCRIPTION:Voorganger: Werkgroep
URL:https://franciscusparochiemeierijstad.nl/agenda-item/woord-en-communieviering-14e-zondag-door-het-jaar-h-hart-h-joh/
LOCATION:H. Hart-H. Johannes Veghel
CATEGORIES:H. Hart-H. Johannes Veghel
END:VEVENT
BEGIN:VEVENT
DTSTART;TZID=Europe/Amsterdam:20260705T100000
DTEND;TZID=Europe/Amsterdam:20260705T100000
DTSTAMP:20260420T103456
CREATED:20260213T174527Z
LAST-MODIFIED:20260213T174527Z
UID:9450-1783245600-1783245600@franciscusparochiemeierijstad.nl
SUMMARY:Eucharistieviering - 14e zondag door het jaar @ Zijtaart
DESCRIPTION:Voorganger: Bruceline
URL:https://franciscusparochiemeierijstad.nl/agenda-item/eucharistieviering-14e-zondag-door-het-jaar-zijtaart/
LOCATION:H. Lambertus Zijtaart
CATEGORIES:H. Lambertus Zijtaart
END:VEVENT
BEGIN:VEVENT
DTSTART;TZID=Europe/Amsterdam:20260705T103000
DTEND;TZID=Europe/Amsterdam:20260705T103000
DTSTAMP:20260420T103456
CREATED:20260213T174528Z
LAST-MODIFIED:20260213T174528Z
UID:9451-1783247400-1783247400@franciscusparochiemeierijstad.nl
SUMMARY:Eucharistieviering - 14e zondag door het jaar @ Mariaheide
DESCRIPTION:Voorganger: Holterman
URL:https://franciscusparochiemeierijstad.nl/agenda-item/eucharistieviering-14e-zondag-door-het-jaar-mariaheide/
LOCATION:O.L.V. van Goede Raad Mariaheide
CATEGORIES:O.L.V. van Goede Raad Mariaheide
END:VEVENT
BEGIN:VEVENT
DTSTART;TZID=Europe/Amsterdam:20260705T110000
DTEND;TZID=Europe/Amsterdam:20260705T110000
DTSTAMP:20260420T103456
CREATED:20260213T174532Z
LAST-MODIFIED:20260213T174532Z
UID:9452-1783249200-1783249200@franciscusparochiemeierijstad.nl
SUMMARY:Eucharistieviering - 14e zondag door het jaar @ Erp
DESCRIPTION:Voorganger: Smulders\, m.m.v: Herenkoor
URL:https://franciscusparochiemeierijstad.nl/agenda-item/eucharistieviering-14e-zondag-door-het-jaar-erp/
LOCATION:H. Servatius Erp
CATEGORIES:H. Servatius Erp
END:VEVENT
END:VCALENDAR