BEGIN:VCALENDAR
VERSION:2.0
PRODID:-//Franciscusparochie Meierijstad - ECPv6.15.20//NONSGML v1.0//EN
CALSCALE:GREGORIAN
METHOD:PUBLISH
X-ORIGINAL-URL:https://franciscusparochiemeierijstad.nl
X-WR-CALDESC:Evenementen voor Franciscusparochie Meierijstad
REFRESH-INTERVAL;VALUE=DURATION:PT1H
X-Robots-Tag:noindex
X-PUBLISHED-TTL:PT1H
BEGIN:VTIMEZONE
TZID:Europe/Amsterdam
BEGIN:DAYLIGHT
TZOFFSETFROM:+0100
TZOFFSETTO:+0200
TZNAME:CEST
DTSTART:20250330T010000
END:DAYLIGHT
BEGIN:STANDARD
TZOFFSETFROM:+0200
TZOFFSETTO:+0100
TZNAME:CET
DTSTART:20251026T010000
END:STANDARD
BEGIN:DAYLIGHT
TZOFFSETFROM:+0100
TZOFFSETTO:+0200
TZNAME:CEST
DTSTART:20260329T010000
END:DAYLIGHT
BEGIN:STANDARD
TZOFFSETFROM:+0200
TZOFFSETTO:+0100
TZNAME:CET
DTSTART:20261025T010000
END:STANDARD
BEGIN:DAYLIGHT
TZOFFSETFROM:+0100
TZOFFSETTO:+0200
TZNAME:CEST
DTSTART:20270328T010000
END:DAYLIGHT
BEGIN:STANDARD
TZOFFSETFROM:+0200
TZOFFSETTO:+0100
TZNAME:CET
DTSTART:20271031T010000
END:STANDARD
END:VTIMEZONE
BEGIN:VEVENT
DTSTART;TZID=Europe/Amsterdam:20260718T140000
DTEND;TZID=Europe/Amsterdam:20260718T140000
DTSTAMP:20260424T140452
CREATED:20260402T163643Z
LAST-MODIFIED:20260423T183419Z
UID:9643-1784383200-1784383200@franciscusparochiemeierijstad.nl
SUMMARY:Openstelling Lambertuskerk Veghel
DESCRIPTION:Voor het bezoek aan de gewelven zijn een beperkt aantal plaatsen beschikbaar. Reserveer hieronder een plaatsje. Het bezoek aan de gewelven kost Eur 5\,- p.p. en dient bij aanvang van de rondleiding betaald te worden.  Deze bijdrage komt geheel ten goede aan het restauratiefonds van de Lambertuskerk. \nU gaat op eigen risico naar boven\, dus houdt er rekening mee dat uw conditie en mobiliteit goed moeten zijn. Kinderen vanaf 8 jaar.
URL:https://franciscusparochiemeierijstad.nl/agenda-item/openstelling-lambertuskerk-veghel/
LOCATION:H. Lambertus Veghel
CATEGORIES:H. Lambertus Veghel
END:VEVENT
BEGIN:VEVENT
DTSTART;TZID=Europe/Amsterdam:20260718T190000
DTEND;TZID=Europe/Amsterdam:20260718T190000
DTSTAMP:20260424T140452
CREATED:20260213T174538Z
LAST-MODIFIED:20260213T174538Z
UID:9460-1784401200-1784401200@franciscusparochiemeierijstad.nl
SUMMARY:Eucharistieviering - 16e zaterdag door het jaar @ H.Hart/H.Joh.
DESCRIPTION:Voorganger: Smulders/diaken Bas
URL:https://franciscusparochiemeierijstad.nl/agenda-item/eucharistieviering-16e-zaterdag-door-het-jaar-h-hart-h-joh/
LOCATION:H. Hart-H. Johannes Veghel
CATEGORIES:H. Hart-H. Johannes Veghel
END:VEVENT
END:VCALENDAR