BEGIN:VCALENDAR
VERSION:2.0
PRODID:-//Franciscusparochie Meierijstad - ECPv6.15.20//NONSGML v1.0//EN
CALSCALE:GREGORIAN
METHOD:PUBLISH
X-ORIGINAL-URL:https://franciscusparochiemeierijstad.nl
X-WR-CALDESC:Evenementen voor Franciscusparochie Meierijstad
REFRESH-INTERVAL;VALUE=DURATION:PT1H
X-Robots-Tag:noindex
X-PUBLISHED-TTL:PT1H
BEGIN:VTIMEZONE
TZID:Europe/Amsterdam
BEGIN:DAYLIGHT
TZOFFSETFROM:+0100
TZOFFSETTO:+0200
TZNAME:CEST
DTSTART:20250330T010000
END:DAYLIGHT
BEGIN:STANDARD
TZOFFSETFROM:+0200
TZOFFSETTO:+0100
TZNAME:CET
DTSTART:20251026T010000
END:STANDARD
BEGIN:DAYLIGHT
TZOFFSETFROM:+0100
TZOFFSETTO:+0200
TZNAME:CEST
DTSTART:20260329T010000
END:DAYLIGHT
BEGIN:STANDARD
TZOFFSETFROM:+0200
TZOFFSETTO:+0100
TZNAME:CET
DTSTART:20261025T010000
END:STANDARD
BEGIN:DAYLIGHT
TZOFFSETFROM:+0100
TZOFFSETTO:+0200
TZNAME:CEST
DTSTART:20270328T010000
END:DAYLIGHT
BEGIN:STANDARD
TZOFFSETFROM:+0200
TZOFFSETTO:+0100
TZNAME:CET
DTSTART:20271031T010000
END:STANDARD
END:VTIMEZONE
BEGIN:VEVENT
DTSTART;TZID=Europe/Amsterdam:20260912T120000
DTEND;TZID=Europe/Amsterdam:20260912T160000
DTSTAMP:20260423T144629
CREATED:20260422T163806Z
LAST-MODIFIED:20260422T163806Z
UID:9722-1789214400-1789228800@franciscusparochiemeierijstad.nl
SUMMARY:Openstelling Lambertuskerk Veghel
DESCRIPTION:Vandaag is de Lambertuskerk in Veghel geopend. \nDeze is vrij te bezichtigen\, er zijn rondleidingen door de kerk en de gewelven kunnen bezocht worden. \nVoor het bezoek aan de gewelven zijn een beperkt aantal plaatsen beschikbaar. Reserveer hieronder een plaatsje. Het bezoek aan de gewelven kost Eur 5\,- p.p. en dient bij aanvang van de rondleiding betaald te worden.  Deze bijdrage komt geheel ten goede aan het restauratiefonds van de Lambertuskerk. \nU gaat op eigen risico naar boven\, dus houdt er rekening mee dat uw conditie en mobiliteit goed moeten zijn. Kinderen vanaf 8 jaar.
URL:https://franciscusparochiemeierijstad.nl/agenda-item/openstelling-lambertuskerk-veghel-8/
LOCATION:H. Lambertus Veghel
CATEGORIES:H. Lambertus Veghel
END:VEVENT
END:VCALENDAR