BEGIN:VCALENDAR
VERSION:2.0
PRODID:-//Franciscusparochie Meierijstad - ECPv6.15.20//NONSGML v1.0//EN
CALSCALE:GREGORIAN
METHOD:PUBLISH
X-ORIGINAL-URL:https://franciscusparochiemeierijstad.nl
X-WR-CALDESC:Evenementen voor Franciscusparochie Meierijstad
REFRESH-INTERVAL;VALUE=DURATION:PT1H
X-Robots-Tag:noindex
X-PUBLISHED-TTL:PT1H
BEGIN:VTIMEZONE
TZID:Europe/Amsterdam
BEGIN:DAYLIGHT
TZOFFSETFROM:+0100
TZOFFSETTO:+0200
TZNAME:CEST
DTSTART:20250330T010000
END:DAYLIGHT
BEGIN:STANDARD
TZOFFSETFROM:+0200
TZOFFSETTO:+0100
TZNAME:CET
DTSTART:20251026T010000
END:STANDARD
BEGIN:DAYLIGHT
TZOFFSETFROM:+0100
TZOFFSETTO:+0200
TZNAME:CEST
DTSTART:20260329T010000
END:DAYLIGHT
BEGIN:STANDARD
TZOFFSETFROM:+0200
TZOFFSETTO:+0100
TZNAME:CET
DTSTART:20261025T010000
END:STANDARD
BEGIN:DAYLIGHT
TZOFFSETFROM:+0100
TZOFFSETTO:+0200
TZNAME:CEST
DTSTART:20270328T010000
END:DAYLIGHT
BEGIN:STANDARD
TZOFFSETFROM:+0200
TZOFFSETTO:+0100
TZNAME:CET
DTSTART:20271031T010000
END:STANDARD
END:VTIMEZONE
BEGIN:VEVENT
DTSTART;TZID=Europe/Amsterdam:20260801T190000
DTEND;TZID=Europe/Amsterdam:20260801T190000
DTSTAMP:20260423T001554
CREATED:20260213T174552Z
LAST-MODIFIED:20260213T174552Z
UID:9474-1785610800-1785610800@franciscusparochiemeierijstad.nl
SUMMARY:Eucharistieviering - 18e zaterdag door het jaar @ H.Hart/H.Joh.
DESCRIPTION:Voorganger: Smulders/Diaken Bas
URL:https://franciscusparochiemeierijstad.nl/agenda-item/eucharistieviering-18e-zaterdag-door-het-jaar-h-hart-h-joh/
LOCATION:H. Hart-H. Johannes Veghel
CATEGORIES:H. Hart-H. Johannes Veghel
END:VEVENT
BEGIN:VEVENT
DTSTART;TZID=Europe/Amsterdam:20260802T100000
DTEND;TZID=Europe/Amsterdam:20260802T100000
DTSTAMP:20260423T001554
CREATED:20260213T174552Z
LAST-MODIFIED:20260213T174552Z
UID:9475-1785664800-1785664800@franciscusparochiemeierijstad.nl
SUMMARY:Woord en Communieviering - 18e zondag door het jaar @ Lambertuskerk Veghel
DESCRIPTION:Voorganger: Diaken Bas
URL:https://franciscusparochiemeierijstad.nl/agenda-item/woord-en-communieviering-18e-zondag-door-het-jaar-lambertuskerk-veghel/
LOCATION:H. Lambertus Veghel
CATEGORIES:H. Lambertus Veghel
END:VEVENT
BEGIN:VEVENT
DTSTART;TZID=Europe/Amsterdam:20260802T100000
DTEND;TZID=Europe/Amsterdam:20260802T100000
DTSTAMP:20260423T001554
CREATED:20260213T174553Z
LAST-MODIFIED:20260213T174553Z
UID:9476-1785664800-1785664800@franciscusparochiemeierijstad.nl
SUMMARY:Woord en Communieviering - 18e zondag door het jaar @ H.Hart/H.Joh.
DESCRIPTION:Voorganger: Werkgroep
URL:https://franciscusparochiemeierijstad.nl/agenda-item/woord-en-communieviering-18e-zondag-door-het-jaar-h-hart-h-joh/
LOCATION:H. Hart-H. Johannes Veghel
CATEGORIES:H. Hart-H. Johannes Veghel
END:VEVENT
BEGIN:VEVENT
DTSTART;TZID=Europe/Amsterdam:20260802T100000
DTEND;TZID=Europe/Amsterdam:20260802T100000
DTSTAMP:20260423T001554
CREATED:20260213T174557Z
LAST-MODIFIED:20260213T174557Z
UID:9477-1785664800-1785664800@franciscusparochiemeierijstad.nl
SUMMARY:Eucharistieviering - 18e zondag door het jaar @ Zijtaart
DESCRIPTION:Voorganger: Bruceline
URL:https://franciscusparochiemeierijstad.nl/agenda-item/eucharistieviering-18e-zondag-door-het-jaar-zijtaart/
LOCATION:H. Lambertus Zijtaart
CATEGORIES:H. Lambertus Zijtaart
END:VEVENT
BEGIN:VEVENT
DTSTART;TZID=Europe/Amsterdam:20260802T103000
DTEND;TZID=Europe/Amsterdam:20260802T103000
DTSTAMP:20260423T001554
CREATED:20260213T174557Z
LAST-MODIFIED:20260213T174557Z
UID:9478-1785666600-1785666600@franciscusparochiemeierijstad.nl
SUMMARY:Eucharistieviering - 18e zondag door het jaar @ Mariaheide
DESCRIPTION:Voorganger: Holterman
URL:https://franciscusparochiemeierijstad.nl/agenda-item/eucharistieviering-18e-zondag-door-het-jaar-mariaheide/
LOCATION:O.L.V. van Goede Raad Mariaheide
CATEGORIES:O.L.V. van Goede Raad Mariaheide
END:VEVENT
BEGIN:VEVENT
DTSTART;TZID=Europe/Amsterdam:20260802T110000
DTEND;TZID=Europe/Amsterdam:20260802T110000
DTSTAMP:20260423T001554
CREATED:20260213T174557Z
LAST-MODIFIED:20260213T174557Z
UID:9479-1785668400-1785668400@franciscusparochiemeierijstad.nl
SUMMARY:Eucharistieviering - 18e zondag door het jaar @ Erp
DESCRIPTION:Voorganger: Smulders\, m.m.v: Sonja
URL:https://franciscusparochiemeierijstad.nl/agenda-item/eucharistieviering-18e-zondag-door-het-jaar-erp/
LOCATION:H. Servatius Erp
CATEGORIES:H. Servatius Erp
END:VEVENT
BEGIN:VEVENT
DTSTART;TZID=Europe/Amsterdam:20260808T120000
DTEND;TZID=Europe/Amsterdam:20260808T160000
DTSTAMP:20260423T001554
CREATED:20260422T162539Z
LAST-MODIFIED:20260422T162539Z
UID:9710-1786190400-1786204800@franciscusparochiemeierijstad.nl
SUMMARY:Openstelling Lambertuskerk Veghel
DESCRIPTION:Vandaag is de Lambertuskerk in Veghel geopend. \nDeze is vrij te bezichtigen\, er zijn rondleidingen door de kerk en de gewelven kunnen bezocht worden. \nVoor het bezoek aan de gewelven zijn een beperkt aantal plaatsen beschikbaar. Reserveer hieronder een plaatsje. Het bezoek aan de gewelven kost Eur 5\,- p.p. en dient bij aanvang van de rondleiding betaald te worden.  Deze bijdrage komt geheel ten goede aan het restauratiefonds van de Lambertuskerk. \nU gaat op eigen risico naar boven\, dus houdt er rekening mee dat uw conditie en mobiliteit goed moeten zijn. Kinderen vanaf 8 jaar.
URL:https://franciscusparochiemeierijstad.nl/agenda-item/openstelling-lambertuskerk-veghel-4/
LOCATION:H. Lambertus Veghel
CATEGORIES:H. Lambertus Veghel
END:VEVENT
BEGIN:VEVENT
DTSTART;TZID=Europe/Amsterdam:20260808T190000
DTEND;TZID=Europe/Amsterdam:20260808T190000
DTSTAMP:20260423T001554
CREATED:20260213T174558Z
LAST-MODIFIED:20260213T174558Z
UID:9480-1786215600-1786215600@franciscusparochiemeierijstad.nl
SUMMARY:Eucharistieviering - 19e zaterdag door het jaar @ Eerde
DESCRIPTION:Voorganger: Smulders/Diaken Bas
URL:https://franciscusparochiemeierijstad.nl/agenda-item/eucharistieviering-19e-zaterdag-door-het-jaar-eerde/
LOCATION:H. Antonius Abt Eerde
CATEGORIES:H. Antonius Abt Eerde
END:VEVENT
BEGIN:VEVENT
DTSTART;TZID=Europe/Amsterdam:20260808T190000
DTEND;TZID=Europe/Amsterdam:20260808T190000
DTSTAMP:20260423T001554
CREATED:20260213T174558Z
LAST-MODIFIED:20260213T174558Z
UID:9481-1786215600-1786215600@franciscusparochiemeierijstad.nl
SUMMARY:Eucharistieviering - 19e zaterdag door het jaar @ Boerdonk
DESCRIPTION:Voorganger: Bruceline
URL:https://franciscusparochiemeierijstad.nl/agenda-item/eucharistieviering-19e-zaterdag-door-het-jaar-boerdonk/
LOCATION:H. Servatius Boerdonk
CATEGORIES:H. Servatius Boerdonk
END:VEVENT
BEGIN:VEVENT
DTSTART;TZID=Europe/Amsterdam:20260808T190000
DTEND;TZID=Europe/Amsterdam:20260808T190000
DTSTAMP:20260423T001554
CREATED:20260213T174602Z
LAST-MODIFIED:20260213T174602Z
UID:9482-1786215600-1786215600@franciscusparochiemeierijstad.nl
SUMMARY:Eucharistieviering - 19e zaterdag door het jaar @ H.Hart/H.Joh
DESCRIPTION:Voorganger: Holterman
URL:https://franciscusparochiemeierijstad.nl/agenda-item/eucharistieviering-19e-zaterdag-door-het-jaar-h-hart-h-joh/
LOCATION:H. Hart-H. Johannes Veghel
CATEGORIES:H. Hart-H. Johannes Veghel
END:VEVENT
BEGIN:VEVENT
DTSTART;TZID=Europe/Amsterdam:20260809T090000
DTEND;TZID=Europe/Amsterdam:20260809T090000
DTSTAMP:20260423T001554
CREATED:20260213T174603Z
LAST-MODIFIED:20260213T174603Z
UID:9483-1786266000-1786266000@franciscusparochiemeierijstad.nl
SUMMARY:Eucharistieviering - 19e zondag door het jaar @ Keldonk
DESCRIPTION:Voorganger: v Buul/Diaken Bas\, m.m.v: Gemengd koor
URL:https://franciscusparochiemeierijstad.nl/agenda-item/eucharistieviering-19e-zondag-door-het-jaar-keldonk/
LOCATION:H. Antonius van Padua Keldonk
CATEGORIES:H. Antonius van Padua Keldonk
END:VEVENT
BEGIN:VEVENT
DTSTART;TZID=Europe/Amsterdam:20260809T100000
DTEND;TZID=Europe/Amsterdam:20260809T100000
DTSTAMP:20260423T001554
CREATED:20260213T174603Z
LAST-MODIFIED:20260213T174603Z
UID:9485-1786269600-1786269600@franciscusparochiemeierijstad.nl
SUMMARY:Eucharistieviering - 19e zondag door het jaar @ Zijtaart
DESCRIPTION:Voorganger: Holterman
URL:https://franciscusparochiemeierijstad.nl/agenda-item/eucharistieviering-19e-zondag-door-het-jaar-zijtaart/
LOCATION:H. Lambertus Zijtaart
CATEGORIES:H. Lambertus Zijtaart
END:VEVENT
BEGIN:VEVENT
DTSTART;TZID=Europe/Amsterdam:20260809T100000
DTEND;TZID=Europe/Amsterdam:20260809T100000
DTSTAMP:20260423T001554
CREATED:20260213T174603Z
LAST-MODIFIED:20260213T174603Z
UID:9484-1786269600-1786269600@franciscusparochiemeierijstad.nl
SUMMARY:Eucharistieviering - 19e zondag door het jaar @ Lambertuskerk Veghel
DESCRIPTION:Voorganger: Smulders
URL:https://franciscusparochiemeierijstad.nl/agenda-item/eucharistieviering-19e-zondag-door-het-jaar-lambertuskerk-veghel/
LOCATION:H. Lambertus Veghel
CATEGORIES:H. Lambertus Veghel
END:VEVENT
BEGIN:VEVENT
DTSTART;TZID=Europe/Amsterdam:20260809T110000
DTEND;TZID=Europe/Amsterdam:20260809T110000
DTSTAMP:20260423T001554
CREATED:20260213T174603Z
LAST-MODIFIED:20260213T174603Z
UID:9486-1786273200-1786273200@franciscusparochiemeierijstad.nl
SUMMARY:Eucharistieviering - 19e zondag door het jaar @ Erp
DESCRIPTION:Voorganger: Bruceline/Diaken Bas\, m.m.v: Sonja
URL:https://franciscusparochiemeierijstad.nl/agenda-item/eucharistieviering-19e-zondag-door-het-jaar-erp/
LOCATION:H. Servatius Erp
CATEGORIES:H. Servatius Erp
END:VEVENT
BEGIN:VEVENT
DTSTART;TZID=Europe/Amsterdam:20260815T120000
DTEND;TZID=Europe/Amsterdam:20260815T160000
DTSTAMP:20260423T001554
CREATED:20260422T162958Z
LAST-MODIFIED:20260422T162958Z
UID:9713-1786795200-1786809600@franciscusparochiemeierijstad.nl
SUMMARY:Openstelling Lambertuskerk Veghel
DESCRIPTION:Vandaag is de Lambertuskerk in Veghel geopend. \nDeze is vrij te bezichtigen\, er zijn rondleidingen door de kerk en de gewelven kunnen bezocht worden. \nVoor het bezoek aan de gewelven zijn een beperkt aantal plaatsen beschikbaar. Reserveer hieronder een plaatsje. Het bezoek aan de gewelven kost Eur 5\,- p.p. en dient bij aanvang van de rondleiding betaald te worden.  Deze bijdrage komt geheel ten goede aan het restauratiefonds van de Lambertuskerk. \nU gaat op eigen risico naar boven\, dus houdt er rekening mee dat uw conditie en mobiliteit goed moeten zijn. Kinderen vanaf 8 jaar.
URL:https://franciscusparochiemeierijstad.nl/agenda-item/openstelling-lambertuskerk-veghel-5/
LOCATION:H. Lambertus Veghel
CATEGORIES:H. Lambertus Veghel
END:VEVENT
BEGIN:VEVENT
DTSTART;TZID=Europe/Amsterdam:20260815T190000
DTEND;TZID=Europe/Amsterdam:20260815T190000
DTSTAMP:20260423T001554
CREATED:20260213T174607Z
LAST-MODIFIED:20260213T174607Z
UID:9487-1786820400-1786820400@franciscusparochiemeierijstad.nl
SUMMARY:Eucharistieviering - Maria Tenhemelopneming @ H.Hart/H.Joh.
DESCRIPTION:Voorganger: Smulders
URL:https://franciscusparochiemeierijstad.nl/agenda-item/eucharistieviering-maria-tenhemelopneming-h-hart-h-joh/
LOCATION:H. Hart-H. Johannes Veghel
CATEGORIES:H. Hart-H. Johannes Veghel
END:VEVENT
BEGIN:VEVENT
DTSTART;TZID=Europe/Amsterdam:20260815T190000
DTEND;TZID=Europe/Amsterdam:20260815T190000
DTSTAMP:20260423T001554
CREATED:20260213T174608Z
LAST-MODIFIED:20260213T174608Z
UID:9488-1786820400-1786820400@franciscusparochiemeierijstad.nl
SUMMARY:Eucharistieviering - Maria Tenhemelopneming @ Eerde
DESCRIPTION:Voorganger: Bruceline/Diaken Bas\, open lucht viering bij de kapel
URL:https://franciscusparochiemeierijstad.nl/agenda-item/eucharistieviering-maria-tenhemelopneming-eerde/
LOCATION:H. Antonius Abt Eerde
CATEGORIES:H. Antonius Abt Eerde
END:VEVENT
BEGIN:VEVENT
DTSTART;TZID=Europe/Amsterdam:20260816T100000
DTEND;TZID=Europe/Amsterdam:20260816T100000
DTSTAMP:20260423T001554
CREATED:20260213T174608Z
LAST-MODIFIED:20260213T174608Z
UID:9490-1786874400-1786874400@franciscusparochiemeierijstad.nl
SUMMARY:Woord en Communieviering - 20e zondag door het jaar @ H.Hart/H.Joh.
DESCRIPTION:Voorganger: Werkgroep
URL:https://franciscusparochiemeierijstad.nl/agenda-item/woord-en-communieviering-20e-zondag-door-het-jaar-h-hart-h-joh/
LOCATION:H. Hart-H. Johannes Veghel
CATEGORIES:H. Hart-H. Johannes Veghel
END:VEVENT
BEGIN:VEVENT
DTSTART;TZID=Europe/Amsterdam:20260816T100000
DTEND;TZID=Europe/Amsterdam:20260816T100000
DTSTAMP:20260423T001554
CREATED:20260213T174608Z
LAST-MODIFIED:20260213T174608Z
UID:9491-1786874400-1786874400@franciscusparochiemeierijstad.nl
SUMMARY:Eucharistieviering - 20e zondag door het jaar @ Zijtaart
DESCRIPTION:Voorganger: Holterman
URL:https://franciscusparochiemeierijstad.nl/agenda-item/eucharistieviering-20e-zondag-door-het-jaar-zijtaart/
LOCATION:H. Lambertus Zijtaart
CATEGORIES:H. Lambertus Zijtaart
END:VEVENT
BEGIN:VEVENT
DTSTART;TZID=Europe/Amsterdam:20260816T100000
DTEND;TZID=Europe/Amsterdam:20260816T100000
DTSTAMP:20260423T001554
CREATED:20260213T174608Z
LAST-MODIFIED:20260213T174608Z
UID:9489-1786874400-1786874400@franciscusparochiemeierijstad.nl
SUMMARY:Eucharistieviering - 20e zondag door het jaar @ Lambertus Veghel
DESCRIPTION:Voorganger: Smulders
URL:https://franciscusparochiemeierijstad.nl/agenda-item/eucharistieviering-20e-zondag-door-het-jaar-lambertus-veghel/
LOCATION:H. Lambertus Veghel
CATEGORIES:H. Lambertus Veghel
END:VEVENT
BEGIN:VEVENT
DTSTART;TZID=Europe/Amsterdam:20260816T103000
DTEND;TZID=Europe/Amsterdam:20260816T103000
DTSTAMP:20260423T001554
CREATED:20260213T174615Z
LAST-MODIFIED:20260213T174615Z
UID:9492-1786876200-1786876200@franciscusparochiemeierijstad.nl
SUMMARY:Woord en Communieviering - 20e zondag door het jaar @ Mariaheide
DESCRIPTION:Voorganger: Werkgroep
URL:https://franciscusparochiemeierijstad.nl/agenda-item/woord-en-communieviering-20e-zondag-door-het-jaar-mariaheide/
LOCATION:O.L.V. van Goede Raad Mariaheide
CATEGORIES:O.L.V. van Goede Raad Mariaheide
END:VEVENT
BEGIN:VEVENT
DTSTART;TZID=Europe/Amsterdam:20260816T110000
DTEND;TZID=Europe/Amsterdam:20260816T110000
DTSTAMP:20260423T001554
CREATED:20260213T174615Z
LAST-MODIFIED:20260213T174615Z
UID:9493-1786878000-1786878000@franciscusparochiemeierijstad.nl
SUMMARY:Eucharistieviering - 20e zondag door het jaar @ Erp
DESCRIPTION:Voorganger: Bruceline/Diaken Bas\, m.m.v: Sonja
URL:https://franciscusparochiemeierijstad.nl/agenda-item/eucharistieviering-20e-zondag-door-het-jaar-erp/
LOCATION:H. Servatius Erp
CATEGORIES:H. Servatius Erp
END:VEVENT
BEGIN:VEVENT
DTSTART;TZID=Europe/Amsterdam:20260822T120000
DTEND;TZID=Europe/Amsterdam:20260822T160000
DTSTAMP:20260423T001554
CREATED:20260422T163320Z
LAST-MODIFIED:20260422T163320Z
UID:9716-1787400000-1787414400@franciscusparochiemeierijstad.nl
SUMMARY:Openstelling Lambertuskerk Veghel
DESCRIPTION:Vandaag is de Lambertuskerk in Veghel geopend. \nDeze is vrij te bezichtigen\, er zijn rondleidingen door de kerk en de gewelven kunnen bezocht worden. \nVoor het bezoek aan de gewelven zijn een beperkt aantal plaatsen beschikbaar. Reserveer hieronder een plaatsje. Het bezoek aan de gewelven kost Eur 5\,- p.p. en dient bij aanvang van de rondleiding betaald te worden.  Deze bijdrage komt geheel ten goede aan het restauratiefonds van de Lambertuskerk. \nU gaat op eigen risico naar boven\, dus houdt er rekening mee dat uw conditie en mobiliteit goed moeten zijn. Kinderen vanaf 8 jaar.
URL:https://franciscusparochiemeierijstad.nl/agenda-item/openstelling-lambertuskerk-veghel-6/
LOCATION:H. Lambertus Veghel
CATEGORIES:H. Lambertus Veghel
END:VEVENT
BEGIN:VEVENT
DTSTART;TZID=Europe/Amsterdam:20260822T190000
DTEND;TZID=Europe/Amsterdam:20260822T190000
DTSTAMP:20260423T001554
CREATED:20260213T174615Z
LAST-MODIFIED:20260213T174615Z
UID:9494-1787425200-1787425200@franciscusparochiemeierijstad.nl
SUMMARY:Eucharistieviering - 21e zaterdag door het jaar @ H.Hart/H.Joh.
DESCRIPTION:Voorganger: Smulders/Diaken Bas
URL:https://franciscusparochiemeierijstad.nl/agenda-item/eucharistieviering-21e-zaterdag-door-het-jaar-h-hart-h-joh/
LOCATION:H. Hart-H. Johannes Veghel
CATEGORIES:H. Hart-H. Johannes Veghel
END:VEVENT
BEGIN:VEVENT
DTSTART;TZID=Europe/Amsterdam:20260823T090000
DTEND;TZID=Europe/Amsterdam:20260823T090000
DTSTAMP:20260423T001554
CREATED:20260213T174615Z
LAST-MODIFIED:20260213T174615Z
UID:9495-1787475600-1787475600@franciscusparochiemeierijstad.nl
SUMMARY:Eucharistieviering - 21e zondag door het jaar @ Keldonk
DESCRIPTION:Voorganger: v Buul\, m.m.v: Bel Canto
URL:https://franciscusparochiemeierijstad.nl/agenda-item/eucharistieviering-21e-zondag-door-het-jaar-keldonk/
LOCATION:H. Antonius van Padua Keldonk
CATEGORIES:H. Antonius van Padua Keldonk
END:VEVENT
BEGIN:VEVENT
DTSTART;TZID=Europe/Amsterdam:20260823T100000
DTEND;TZID=Europe/Amsterdam:20260823T100000
DTSTAMP:20260423T001554
CREATED:20260213T174615Z
LAST-MODIFIED:20260213T174615Z
UID:9496-1787479200-1787479200@franciscusparochiemeierijstad.nl
SUMMARY:Eucharistieviering - 21e zondag door het jaar @ Lambertus Veghel
DESCRIPTION:Voorganger: Smulders
URL:https://franciscusparochiemeierijstad.nl/agenda-item/eucharistieviering-21e-zondag-door-het-jaar-lambertus-veghel/
LOCATION:H. Lambertus Veghel
CATEGORIES:H. Lambertus Veghel
END:VEVENT
BEGIN:VEVENT
DTSTART;TZID=Europe/Amsterdam:20260823T100000
DTEND;TZID=Europe/Amsterdam:20260823T100000
DTSTAMP:20260423T001554
CREATED:20260213T174617Z
LAST-MODIFIED:20260213T174617Z
UID:9497-1787479200-1787479200@franciscusparochiemeierijstad.nl
SUMMARY:Eucharistieviering - 21e zondag door het jaar @ Eerde
DESCRIPTION:Voorganger: Holterman
URL:https://franciscusparochiemeierijstad.nl/agenda-item/eucharistieviering-21e-zondag-door-het-jaar-eerde/
LOCATION:H. Antonius Abt Eerde
CATEGORIES:H. Antonius Abt Eerde
END:VEVENT
BEGIN:VEVENT
DTSTART;TZID=Europe/Amsterdam:20260823T100000
DTEND;TZID=Europe/Amsterdam:20260823T100000
DTSTAMP:20260423T001554
CREATED:20260213T174617Z
LAST-MODIFIED:20260213T174617Z
UID:9498-1787479200-1787479200@franciscusparochiemeierijstad.nl
SUMMARY:Woord en Communieviering - 21e zondag door het jaar @ Zijtaart
DESCRIPTION:Voorganger: werkgroep
URL:https://franciscusparochiemeierijstad.nl/agenda-item/woord-en-communieviering-21e-zondag-door-het-jaar-zijtaart/
LOCATION:H. Lambertus Zijtaart
CATEGORIES:H. Lambertus Zijtaart
END:VEVENT
BEGIN:VEVENT
DTSTART;TZID=Europe/Amsterdam:20260823T110000
DTEND;TZID=Europe/Amsterdam:20260823T110000
DTSTAMP:20260423T001554
CREATED:20260213T174618Z
LAST-MODIFIED:20260213T174618Z
UID:9499-1787482800-1787482800@franciscusparochiemeierijstad.nl
SUMMARY:Eucharistieviering - 21e zondag door het jaar @ Erp
DESCRIPTION:Voorganger: Bruceline/Diaken Bas\, m.m.v: Sonja
URL:https://franciscusparochiemeierijstad.nl/agenda-item/eucharistieviering-21e-zondag-door-het-jaar-erp/
LOCATION:H. Servatius Erp
CATEGORIES:H. Servatius Erp
END:VEVENT
BEGIN:VEVENT
DTSTART;TZID=Europe/Amsterdam:20260823T140000
DTEND;TZID=Europe/Amsterdam:20260823T140000
DTSTAMP:20260423T001554
CREATED:20260213T174618Z
LAST-MODIFIED:20260213T174618Z
UID:9500-1787493600-1787493600@franciscusparochiemeierijstad.nl
SUMMARY:Eucharistieviering - Filipijnse viering @ H.Hart/H.Joh.
DESCRIPTION:Voorganger: Christoffer
URL:https://franciscusparochiemeierijstad.nl/agenda-item/eucharistieviering-filipijnse-viering-h-hart-h-joh-7/
LOCATION:H. Hart-H. Johannes Veghel
CATEGORIES:H. Hart-H. Johannes Veghel
END:VEVENT
END:VCALENDAR